BEGIN:VCALENDAR
VERSION:2.0
PRODID:-//Pennsylvania Prescribed Fire Council - ECPv6.15.20//NONSGML v1.0//EN
CALSCALE:GREGORIAN
METHOD:PUBLISH
X-ORIGINAL-URL:https://paprescribedfire.org
X-WR-CALDESC:Events for Pennsylvania Prescribed Fire Council
REFRESH-INTERVAL;VALUE=DURATION:PT1H
X-Robots-Tag:noindex
X-PUBLISHED-TTL:PT1H
BEGIN:VTIMEZONE
TZID:America/New_York
BEGIN:DAYLIGHT
TZOFFSETFROM:-0500
TZOFFSETTO:-0400
TZNAME:EDT
DTSTART:20240310T070000
END:DAYLIGHT
BEGIN:STANDARD
TZOFFSETFROM:-0400
TZOFFSETTO:-0500
TZNAME:EST
DTSTART:20241103T060000
END:STANDARD
BEGIN:DAYLIGHT
TZOFFSETFROM:-0500
TZOFFSETTO:-0400
TZNAME:EDT
DTSTART:20250309T070000
END:DAYLIGHT
BEGIN:STANDARD
TZOFFSETFROM:-0400
TZOFFSETTO:-0500
TZNAME:EST
DTSTART:20251102T060000
END:STANDARD
BEGIN:DAYLIGHT
TZOFFSETFROM:-0500
TZOFFSETTO:-0400
TZNAME:EDT
DTSTART:20260308T070000
END:DAYLIGHT
BEGIN:STANDARD
TZOFFSETFROM:-0400
TZOFFSETTO:-0500
TZNAME:EST
DTSTART:20261101T060000
END:STANDARD
END:VTIMEZONE
BEGIN:VEVENT
DTSTART;VALUE=DATE:20250709
DTEND;VALUE=DATE:20250711
DTSTAMP:20260420T023756
CREATED:20250609T180529Z
LAST-MODIFIED:20250610T204532Z
UID:1703-1752019200-1752191999@paprescribedfire.org
SUMMARY:Field Tour: Prescribed Burning in the North Central Region
DESCRIPTION:This 2-day tour highlights a high concentration of prescribed burn sites within a small geographic area. Participants may attend either or both days. Each day will include stops at Pennsylvania Game Commission and Sproul State Forest sites\, showcasing both successful and challenging outcomes in prescribed fire efforts. Bring your own lunch for both days of the tour and carpool as much as possible. \n  \nPPFC SGL 100 Sproul SF – Field Tour Announcement \nDates: July 9–10\, 2025 Time: 10:00 AM – 3:00 PM \nMeeting Location: State Game Lands 100 Off SR 144 (Ridge Road)\, Karthaus\, PA 16845 \nCoordinates: 41.1385\, -77.9479 \nFIELD SITE HIGHLIGHTS • Oak Woodland / Oak Savanna • Scrub Oak & Pitch Pine Habitats • Growing Season Burns under Moderate Drought \nDISCUSSION TOPICS • Burning in Dense Mountain Laurel • Duff Removal Techniques • Pre-Burn Forest Health Assessment • Adapting Rx Strategies After Unfavorable Results \nTO REGISTER Please fill out the following google form:\nQuestions can be directed to jerdayhoff@pa.gov
URL:https://paprescribedfire.org/event/field-tour-prescribed-burning-in-the-north-central-region/
ATTACH;FMTTYPE=image/jpeg:https://paprescribedfire.org/wp-content/uploads/2025/06/Capture.jpg
END:VEVENT
BEGIN:VEVENT
DTSTART;VALUE=DATE:20250708
DTEND;VALUE=DATE:20250711
DTSTAMP:20260420T023756
CREATED:20250402T171333Z
LAST-MODIFIED:20250402T171333Z
UID:1599-1751932800-1752191999@paprescribedfire.org
SUMMARY:NE-MW Rx Fire Workshop
DESCRIPTION:Please see the full announcement below from the Northeast Cohesive Wildland Fire Management Strategy on their website.
URL:https://paprescribedfire.org/event/ne-mw-rx-fire-workshop/
ATTACH;FMTTYPE=image/jpeg:https://paprescribedfire.org/wp-content/uploads/2025/04/Capture.jpg
END:VEVENT
BEGIN:VEVENT
DTSTART;VALUE=DATE:20250212
DTEND;VALUE=DATE:20250501
DTSTAMP:20260420T023756
CREATED:20250212T224214Z
LAST-MODIFIED:20250212T224742Z
UID:1530-1739318400-1746057599@paprescribedfire.org
SUMMARY:Be Smoke Savvy:
DESCRIPTION:This two-hour online course is available through April 30th\, 2025. The course is free and open to everyone \n  \nTraining Guide of Best Management Practices for Prescribed Fire Smoke. \nTall Timbers: Log in to the site \nThe training will cover essential topics\, including: \n\nThe importance of smoke management\nVarious tactics and strategies for effective smoke control\nAppropriate use of smoke management tools\nAn overview of legal standards related to smoke management\n\nYou will have to create an account if you do not already have one with Tall Timbers.
URL:https://paprescribedfire.org/event/be-smoke-savvy/
END:VEVENT
BEGIN:VEVENT
DTSTART;TZID=America/New_York:20250130T100000
DTEND;TZID=America/New_York:20250131T120000
DTSTAMP:20260420T023756
CREATED:20250128T230630Z
LAST-MODIFIED:20250128T230630Z
UID:1501-1738231200-1738324800@paprescribedfire.org
SUMMARY:PA Fire Council Annual Meeting
DESCRIPTION:Please join us at this year’s Pennsylvania Prescribed Fire Council’s Annual Meeting being held in Boalsburg\, PA on January 30-31\, 2025. Come learn and network with fellow fire professionals about issues affecting Pennsylvania and beyond. We will do our best to give you opportunities to ask questions and socialize with other managers\, researchers and prescribed fire enthusiasts. We look forward to seeing you there!
URL:https://paprescribedfire.org/event/pa-fire-council-annual-meeting/
END:VEVENT
END:VCALENDAR